BEGIN:VCALENDAR
VERSION:2.0
PRODID:-//Tukios.com/
BEGIN:VEVENT
UID:43d313ef-fdc0-45ad-a659-39dd215ed8e6@www.bettsandwestfuneralhome.com
DTSTAMP:20260420T205044Z
DTSTART:20260424T163000Z
DTEND:20260424T173000Z
SUMMARY:Funeral Service
DESCRIPTION:
URL:https://www.bettsandwestfuneralhome.com/obituaries/william-reesor
LOCATION: 404 North Main Street  Nicholasville KY 40356
GEO:37.8836266;-84.5711457
END:VEVENT
END:VCALENDAR