BEGIN:VCALENDAR
VERSION:2.0
PRODID:-//Tukios.com/
BEGIN:VEVENT
UID:19ceb0c6-e19a-4b9c-8c35-f831150916a4@www.bettsandwestfuneralhome.com
DTSTAMP:20260424T175139Z
DTSTART:20260427T170000Z
DTEND:20260427T180000Z
SUMMARY:Visitation
DESCRIPTION:
URL:https://www.bettsandwestfuneralhome.com/obituaries/thomas-hall
LOCATION:683 Portland Way N 683 Portland Way N  Galion OH 44833
GEO:40.7437433;-82.7980923
END:VEVENT
END:VCALENDAR