BEGIN:VCALENDAR
VERSION:2.0
PRODID:-//Tukios.com/
BEGIN:VEVENT
UID:18e068d4-f2d8-4adf-a653-105bab217a5b@www.bettsandwestfuneralhome.com
DTSTAMP:20260424T175432Z
DTSTART:20260427T180000Z
DTEND:20260427T190000Z
SUMMARY:Funeral Service
DESCRIPTION:
URL:https://www.bettsandwestfuneralhome.com/obituaries/thomas-hall
LOCATION:683 Portland Way N 683 Portland Way N  Galion OH 44833
GEO:40.7437433;-82.7980923
END:VEVENT
END:VCALENDAR