BEGIN:VCALENDAR
VERSION:2.0
PRODID:-//Tukios.com/
BEGIN:VEVENT
UID:0dd74d2a-93b7-4fa3-9587-c54515036514@www.bettsandwestfuneralhome.com
DTSTAMP:20260421T000816Z
DTSTART:20260428T173000Z
DTEND:20260428T183000Z
SUMMARY:Burial
DESCRIPTION:
URL:https://www.bettsandwestfuneralhome.com/obituaries/stephen-bokros
LOCATION: 6980 Danville Road  Nicholasville KY 40356
GEO:37.7871642;-84.6027211
END:VEVENT
END:VCALENDAR