BEGIN:VCALENDAR
VERSION:2.0
PRODID:-//Tukios.com/
BEGIN:VEVENT
UID:a1b89245-171a-4693-92dd-d7947026502c@www.bettsandwestfuneralhome.com
DTSTAMP:20260421T000948Z
DTSTART:20260428T140000Z
DTEND:20260428T160000Z
SUMMARY:Visitation
DESCRIPTION:
URL:https://www.bettsandwestfuneralhome.com/obituaries/stephen-bokros
LOCATION:Betts & West Funeral Home 404 North Main Street  Nicholasville 
	KY 40356
GEO:37.8836266;-84.5711457
END:VEVENT
END:VCALENDAR