BEGIN:VCALENDAR
VERSION:2.0
PRODID:-//Tukios.com/
BEGIN:VEVENT
UID:58a9aa84-49f4-4ce2-8199-461515c60315@www.bettsandwestfuneralhome.com
DTSTAMP:20260421T001101Z
DTSTART:20260428T160000Z
DTEND:20260428T170000Z
SUMMARY:Funeral Service
DESCRIPTION:
URL:https://www.bettsandwestfuneralhome.com/obituaries/stephen-bokros
LOCATION: 404 North Main Street  Nicholasville KY 40356
GEO:37.8836266;-84.5711457
END:VEVENT
END:VCALENDAR