BEGIN:VCALENDAR
VERSION:2.0
PRODID:-//Tukios.com/
BEGIN:VEVENT
UID:a10d40af-ecb6-4bbf-b67c-b5e2ba97f20b@www.bettsandwestfuneralhome.com
DTSTAMP:20260422T225622Z
DTSTART:20260425T180000Z
DTEND:20260425T190000Z
SUMMARY:Funeral Service
DESCRIPTION:
URL:https://www.bettsandwestfuneralhome.com/obituaries/patsy-pat-shingledecker
LOCATION:Wilmore Free Methodist Church 1200 Lexington Road  Wilmore KY 
	40390
GEO:37.8725594;-84.6505162
END:VEVENT
END:VCALENDAR