BEGIN:VCALENDAR
VERSION:2.0
PRODID:-//Tukios.com/
BEGIN:VEVENT
UID:bec0acb1-817d-437d-92f7-2f203e02a9db@www.bettsandwestfuneralhome.com
DTSTAMP:20260422T230142Z
DTSTART:20260425T170000Z
DTEND:20260425T180000Z
SUMMARY:Visitation
DESCRIPTION:
URL:https://www.bettsandwestfuneralhome.com/obituaries/patsy-pat-shingledecker
LOCATION: 1200 Lexington Road  Wilmore KY 40390
GEO:37.8725594;-84.6505162
END:VEVENT
END:VCALENDAR